BEGIN:VCALENDAR
VERSION:2.0
PRODID:-//Department Of Education//a8e6a21d-281e-42fb-8223-8716e0c390f9
BEGIN:VTIMEZONE
TZID:Australia/Sydney
TZURL:http://tzurl.org/zoneinfo-outlook/Australia/Sydney
X-LIC-LOCATION:Australia/Sydney
BEGIN:STANDARD
TZOFFSETFROM:+1100
TZOFFSETTO:+1000
TZNAME:AEST
DTSTART:19700405T030000
RRULE:FREQ=YEARLY;BYMONTH=4;BYDAY=1SU
END:STANDARD
BEGIN:DAYLIGHT
TZOFFSETFROM:+1000
TZOFFSETTO:+1100
TZNAME:AEDT
DTSTART:19701004T020000
RRULE:FREQ=YEARLY;BYMONTH=10;BYDAY=1SU
END:DAYLIGHT
END:VTIMEZONE
CALSCALE:GREGORIAN
X-WR-TIMEZONE:Australia/Sydney
BEGIN:VEVENT
DTSTART;VALUE=DATE:20141022
DTEND;VALUE=DATE:20141023
DTSTAMP:20141022T000000Z
UID:832f810c-b538-4291-b5d6-510c9ba803cd
LOCATION:
SUMMARY;LANGUAGE=en-us:Cricket
RRULE:FREQ=WEEKLY;INTERVAL=1;UNTIL=20141112;
SEQUENCE:0
DESCRIPTION:Classes will take turns to participate in FREE cricket training activities.
END:VEVENT
TRANSP:TRANSPARENT
END:VCALENDAR
