BEGIN:VCALENDAR
VERSION:2.0
PRODID:-//Department Of Education//f533e8bb-1675-4fde-8014-67b8a784f043
BEGIN:VTIMEZONE
TZID:Australia/Sydney
TZURL:http://tzurl.org/zoneinfo-outlook/Australia/Sydney
X-LIC-LOCATION:Australia/Sydney
BEGIN:STANDARD
TZOFFSETFROM:+1100
TZOFFSETTO:+1000
TZNAME:AEST
DTSTART:19700405T030000
RRULE:FREQ=YEARLY;BYMONTH=4;BYDAY=1SU
END:STANDARD
BEGIN:DAYLIGHT
TZOFFSETFROM:+1000
TZOFFSETTO:+1100
TZNAME:AEDT
DTSTART:19701004T020000
RRULE:FREQ=YEARLY;BYMONTH=10;BYDAY=1SU
END:DAYLIGHT
END:VTIMEZONE
CALSCALE:GREGORIAN
X-WR-TIMEZONE:Australia/Sydney
BEGIN:VEVENT
DTSTART;VALUE=DATE:20141029
DTEND;VALUE=DATE:20141030
DTSTAMP:20141029T000000Z
UID:bd3e7170-0eb5-437c-bac7-9c3bb20c961d
LOCATION:
SUMMARY;LANGUAGE=en-us:High School For  A Day
SEQUENCE:0
DESCRIPTION:Year 6 Transition
END:VEVENT
TRANSP:TRANSPARENT
END:VCALENDAR
