BEGIN:VCALENDAR
VERSION:2.0
PRODID:-//Department Of Education//ff2f7ae6-da0e-41a7-9340-f03adbd70f71
BEGIN:VTIMEZONE
TZID:Australia/Sydney
TZURL:http://tzurl.org/zoneinfo-outlook/Australia/Sydney
X-LIC-LOCATION:Australia/Sydney
BEGIN:STANDARD
TZOFFSETFROM:+1100
TZOFFSETTO:+1000
TZNAME:AEST
DTSTART:19700405T030000
RRULE:FREQ=YEARLY;BYMONTH=4;BYDAY=1SU
END:STANDARD
BEGIN:DAYLIGHT
TZOFFSETFROM:+1000
TZOFFSETTO:+1100
TZNAME:AEDT
DTSTART:19701004T020000
RRULE:FREQ=YEARLY;BYMONTH=10;BYDAY=1SU
END:DAYLIGHT
END:VTIMEZONE
CALSCALE:GREGORIAN
X-WR-TIMEZONE:Australia/Sydney
BEGIN:VEVENT
DTSTART;VALUE=DATE:20141022
DTEND;VALUE=DATE:20141023
DTSTAMP:20141022T000000Z
UID:f5937b6f-b032-44fc-ac8b-e88b1cd2aa71
LOCATION:
SUMMARY;LANGUAGE=en-us:Kindergarten Orientation
RRULE:FREQ=WEEKLY;INTERVAL=1;UNTIL=20141119;
SEQUENCE:0
DESCRIPTION:Welcome to our 2015 Kindergarten students and their families!
END:VEVENT
TRANSP:TRANSPARENT
END:VCALENDAR
