BEGIN:VCALENDAR
VERSION:2.0
PRODID:-//Department Of Education//f3d3c8dd-9d3c-4bc7-b15f-41710a647873
BEGIN:VTIMEZONE
TZID:Australia/Sydney
TZURL:http://tzurl.org/zoneinfo-outlook/Australia/Sydney
X-LIC-LOCATION:Australia/Sydney
BEGIN:STANDARD
TZOFFSETFROM:+1100
TZOFFSETTO:+1000
TZNAME:AEST
DTSTART:19700405T030000
RRULE:FREQ=YEARLY;BYMONTH=4;BYDAY=1SU
END:STANDARD
BEGIN:DAYLIGHT
TZOFFSETFROM:+1000
TZOFFSETTO:+1100
TZNAME:AEDT
DTSTART:19701004T020000
RRULE:FREQ=YEARLY;BYMONTH=10;BYDAY=1SU
END:DAYLIGHT
END:VTIMEZONE
CALSCALE:GREGORIAN
X-WR-TIMEZONE:Australia/Sydney
BEGIN:VEVENT
DTSTART;TZID=Australia/Sydney:20141020T121500
DTEND;TZID=Australia/Sydney:20141020T133000
DTSTAMP:20141020T121500Z
UID:1bf42242-ba93-4072-96b1-fdf655247737
LOCATION:
SUMMARY;LANGUAGE=en-us:MAD Monday! (Music, Art & Drama)
SEQUENCE:0
DESCRIPTION:Join us under the COLA on Monday from 12:15pm to watch our talented students in our Talent Show. Year 4/5/6 will have a market day with lots of great things to buy, priced between 50c and $5.00. All proceeds will go towards the Year 6 Gift to the school. Please bring your own chair!
END:VEVENT
TRANSP:TRANSPARENT
END:VCALENDAR
