BEGIN:VCALENDAR
VERSION:2.0
PRODID:-//Department Of Education//3577f1f1-c381-4627-abc5-9c429db2f90d
BEGIN:VTIMEZONE
TZID:Australia/Sydney
TZURL:http://tzurl.org/zoneinfo-outlook/Australia/Sydney
X-LIC-LOCATION:Australia/Sydney
BEGIN:STANDARD
TZOFFSETFROM:+1100
TZOFFSETTO:+1000
TZNAME:AEST
DTSTART:19700405T030000
RRULE:FREQ=YEARLY;BYMONTH=4;BYDAY=1SU
END:STANDARD
BEGIN:DAYLIGHT
TZOFFSETFROM:+1000
TZOFFSETTO:+1100
TZNAME:AEDT
DTSTART:19701004T020000
RRULE:FREQ=YEARLY;BYMONTH=10;BYDAY=1SU
END:DAYLIGHT
END:VTIMEZONE
CALSCALE:GREGORIAN
X-WR-TIMEZONE:Australia/Sydney
BEGIN:VEVENT
DTSTART;TZID=Australia/Sydney:20140210T090000
DTEND;TZID=Australia/Sydney:20140210T140000
DTSTAMP:20140210T090000Z
UID:3a4bc81d-4e38-48a9-85a3-e022d6e27d87
LOCATION:
SUMMARY;LANGUAGE=en-us:Swimming Carnival
SEQUENCE:0
DESCRIPTION:Swimming Carnival at Beresfield Pool
END:VEVENT
TRANSP:TRANSPARENT
END:VCALENDAR
