BEGIN:VCALENDAR
VERSION:2.0
PRODID:-//Department Of Education//c2c33e1c-119c-40a0-8152-9a137bf205be
BEGIN:VTIMEZONE
TZID:Australia/Sydney
TZURL:http://tzurl.org/zoneinfo-outlook/Australia/Sydney
X-LIC-LOCATION:Australia/Sydney
BEGIN:STANDARD
TZOFFSETFROM:+1100
TZOFFSETTO:+1000
TZNAME:AEST
DTSTART:19700405T030000
RRULE:FREQ=YEARLY;BYMONTH=4;BYDAY=1SU
END:STANDARD
BEGIN:DAYLIGHT
TZOFFSETFROM:+1000
TZOFFSETTO:+1100
TZNAME:AEDT
DTSTART:19701004T020000
RRULE:FREQ=YEARLY;BYMONTH=10;BYDAY=1SU
END:DAYLIGHT
END:VTIMEZONE
CALSCALE:GREGORIAN
X-WR-TIMEZONE:Australia/Sydney
BEGIN:VEVENT
DTSTART;TZID=Australia/Sydney:20140623T090000
DTEND;TZID=Australia/Sydney:20140623T150000
DTSTAMP:20140623T090000Z
UID:8126a4b1-7ab3-4c08-8bde-1eab02b5ef16
LOCATION:
SUMMARY;LANGUAGE=en-us:Knights Rail Safety Talk
SEQUENCE:0
DESCRIPTION:Educating our students about being safe near our railways.
END:VEVENT
TRANSP:TRANSPARENT
END:VCALENDAR
