BEGIN:VCALENDAR
VERSION:2.0
PRODID:-//Department Of Education//679f9aad-a6a7-426b-b34b-c83f0cf09ea4
BEGIN:VTIMEZONE
TZID:Australia/Sydney
TZURL:http://tzurl.org/zoneinfo-outlook/Australia/Sydney
X-LIC-LOCATION:Australia/Sydney
BEGIN:STANDARD
TZOFFSETFROM:+1100
TZOFFSETTO:+1000
TZNAME:AEST
DTSTART:19700405T030000
RRULE:FREQ=YEARLY;BYMONTH=4;BYDAY=1SU
END:STANDARD
BEGIN:DAYLIGHT
TZOFFSETFROM:+1000
TZOFFSETTO:+1100
TZNAME:AEDT
DTSTART:19701004T020000
RRULE:FREQ=YEARLY;BYMONTH=10;BYDAY=1SU
END:DAYLIGHT
END:VTIMEZONE
CALSCALE:GREGORIAN
X-WR-TIMEZONE:Australia/Sydney
BEGIN:VEVENT
DTSTART;TZID=Australia/Sydney:20140715T090000
DTEND;TZID=Australia/Sydney:20140715T111500
DTSTAMP:20140715T090000Z
UID:789148e5-f4c4-492b-ad07-f74c8dc2f560
LOCATION:
SUMMARY;LANGUAGE=en-us:Got It
SEQUENCE:0
DESCRIPTION:Every Tuesday during Term 3 for selected parents and students.
END:VEVENT
TRANSP:TRANSPARENT
END:VCALENDAR
