BEGIN:VCALENDAR
VERSION:2.0
PRODID:-//Department Of Education//81987069-cd63-4451-9366-fd76cb9c71db
BEGIN:VTIMEZONE
TZID:Australia/Sydney
TZURL:http://tzurl.org/zoneinfo-outlook/Australia/Sydney
X-LIC-LOCATION:Australia/Sydney
BEGIN:STANDARD
TZOFFSETFROM:+1100
TZOFFSETTO:+1000
TZNAME:AEST
DTSTART:19700405T030000
RRULE:FREQ=YEARLY;BYMONTH=4;BYDAY=1SU
END:STANDARD
BEGIN:DAYLIGHT
TZOFFSETFROM:+1000
TZOFFSETTO:+1100
TZNAME:AEDT
DTSTART:19701004T020000
RRULE:FREQ=YEARLY;BYMONTH=10;BYDAY=1SU
END:DAYLIGHT
END:VTIMEZONE
CALSCALE:GREGORIAN
X-WR-TIMEZONE:Australia/Sydney
BEGIN:VEVENT
DTSTART;TZID=Australia/Sydney:20140723T140000
DTEND;TZID=Australia/Sydney:20140723T150000
DTSTAMP:20140723T140000Z
UID:0fd9df55-3198-41be-b6dc-b1324eebeea2
LOCATION:
SUMMARY;LANGUAGE=en-us:Got It: Information Session
SEQUENCE:0
DESCRIPTION:All parents are invited to attend an Information Session regarding Got It; which is a program currently run within our school.
END:VEVENT
TRANSP:TRANSPARENT
END:VCALENDAR
