BEGIN:VCALENDAR
VERSION:2.0
PRODID:-//Department Of Education//3a7af36b-2a19-4d36-8a34-af0c729d9dd4
BEGIN:VTIMEZONE
TZID:Australia/Sydney
TZURL:http://tzurl.org/zoneinfo-outlook/Australia/Sydney
X-LIC-LOCATION:Australia/Sydney
BEGIN:STANDARD
TZOFFSETFROM:+1100
TZOFFSETTO:+1000
TZNAME:AEST
DTSTART:19700405T030000
RRULE:FREQ=YEARLY;BYMONTH=4;BYDAY=1SU
END:STANDARD
BEGIN:DAYLIGHT
TZOFFSETFROM:+1000
TZOFFSETTO:+1100
TZNAME:AEDT
DTSTART:19701004T020000
RRULE:FREQ=YEARLY;BYMONTH=10;BYDAY=1SU
END:DAYLIGHT
END:VTIMEZONE
CALSCALE:GREGORIAN
X-WR-TIMEZONE:Australia/Sydney
BEGIN:VEVENT
DTSTART;VALUE=DATE:20140731
DTEND;VALUE=DATE:20140801
DTSTAMP:20140731T000000Z
UID:97080d33-9527-4c8a-bf30-72624c03cf0d
LOCATION:
SUMMARY;LANGUAGE=en-us:Hot Dog orders due
SEQUENCE:0
DESCRIPTION:Please pre-order and pay for hot dogs by today. Hot dogs will be the only option available from our school canteen this Friday, August 1.
END:VEVENT
TRANSP:TRANSPARENT
END:VCALENDAR
