BEGIN:VCALENDAR
VERSION:2.0
PRODID:-//Department Of Education//0f080a2f-54bb-41ca-b21f-da439f1b2057
BEGIN:VTIMEZONE
TZID:Australia/Sydney
TZURL:http://tzurl.org/zoneinfo-outlook/Australia/Sydney
X-LIC-LOCATION:Australia/Sydney
BEGIN:STANDARD
TZOFFSETFROM:+1100
TZOFFSETTO:+1000
TZNAME:AEST
DTSTART:19700405T030000
RRULE:FREQ=YEARLY;BYMONTH=4;BYDAY=1SU
END:STANDARD
BEGIN:DAYLIGHT
TZOFFSETFROM:+1000
TZOFFSETTO:+1100
TZNAME:AEDT
DTSTART:19701004T020000
RRULE:FREQ=YEARLY;BYMONTH=10;BYDAY=1SU
END:DAYLIGHT
END:VTIMEZONE
CALSCALE:GREGORIAN
X-WR-TIMEZONE:Australia/Sydney
BEGIN:VEVENT
DTSTART;VALUE=DATE:20140730
DTEND;VALUE=DATE:20140731
DTSTAMP:20140730T000000Z
UID:5fb40f09-97fa-4e6c-ad37-0f16ccc1cae5
LOCATION:
SUMMARY;LANGUAGE=en-us:Kinder Library Visit
SEQUENCE:0
DESCRIPTION:Kinder will walk to Beresfield Library for an introduction. Notes to come home soon.
END:VEVENT
TRANSP:TRANSPARENT
END:VCALENDAR
