BEGIN:VCALENDAR
VERSION:2.0
PRODID:-//Department Of Education//a2162fe8-d9f8-4a0a-879e-0e0461206fc1
BEGIN:VTIMEZONE
TZID:Australia/Sydney
TZURL:http://tzurl.org/zoneinfo-outlook/Australia/Sydney
X-LIC-LOCATION:Australia/Sydney
BEGIN:STANDARD
TZOFFSETFROM:+1100
TZOFFSETTO:+1000
TZNAME:AEST
DTSTART:19700405T030000
RRULE:FREQ=YEARLY;BYMONTH=4;BYDAY=1SU
END:STANDARD
BEGIN:DAYLIGHT
TZOFFSETFROM:+1000
TZOFFSETTO:+1100
TZNAME:AEDT
DTSTART:19701004T020000
RRULE:FREQ=YEARLY;BYMONTH=10;BYDAY=1SU
END:DAYLIGHT
END:VTIMEZONE
CALSCALE:GREGORIAN
X-WR-TIMEZONE:Australia/Sydney
BEGIN:VEVENT
DTSTART;TZID=Australia/Sydney:20140721T090000
DTEND;TZID=Australia/Sydney:20140721T150000
DTSTAMP:20140721T090000Z
UID:5968c705-8c45-403f-96df-f87ac23374c9
LOCATION:
SUMMARY;LANGUAGE=en-us:MS Readathon Presentation
SEQUENCE:0
DESCRIPTION:Providing children with a general understanding of Multiple Sclerosis and how to participate in the annual MS Readathon Fundraiser.
END:VEVENT
TRANSP:TRANSPARENT
END:VCALENDAR
