BEGIN:VCALENDAR
VERSION:2.0
PRODID:-//Department Of Education//e403f090-b5c2-444f-8f4c-c1fe3e574ccb
BEGIN:VTIMEZONE
TZID:Australia/Sydney
TZURL:http://tzurl.org/zoneinfo-outlook/Australia/Sydney
X-LIC-LOCATION:Australia/Sydney
BEGIN:STANDARD
TZOFFSETFROM:+1100
TZOFFSETTO:+1000
TZNAME:AEST
DTSTART:19700405T030000
RRULE:FREQ=YEARLY;BYMONTH=4;BYDAY=1SU
END:STANDARD
BEGIN:DAYLIGHT
TZOFFSETFROM:+1000
TZOFFSETTO:+1100
TZNAME:AEDT
DTSTART:19701004T020000
RRULE:FREQ=YEARLY;BYMONTH=10;BYDAY=1SU
END:DAYLIGHT
END:VTIMEZONE
CALSCALE:GREGORIAN
X-WR-TIMEZONE:Australia/Sydney
BEGIN:VEVENT
DTSTART;VALUE=DATE:20140718
DTEND;VALUE=DATE:20140719
DTSTAMP:20140718T000000Z
UID:60955d14-5598-41ee-9667-d246b53c5819
LOCATION:
SUMMARY;LANGUAGE=en-us:NAIDOC Celebrations
SEQUENCE:0
DESCRIPTION:NAIDOC Week is a time to celebrate Aboriginal and Torres Strait Islander cultures and an opportunity to recognise the contributions that Indigenous Australians make to our country and our society. NAIDOC is celebrated by Australians from all walks of life. Tarro Public School students will participate in an afternoon of cultural activities and games. This will be an 'out of uniform day', where students are encouraged to come to school wearing red, black and or yellow. A gold coin donation is not required.
END:VEVENT
TRANSP:TRANSPARENT
END:VCALENDAR
