BEGIN:VCALENDAR
VERSION:2.0
PRODID:-//Department Of Education//177554df-c436-409a-9d6b-f6a83a813beb
BEGIN:VTIMEZONE
TZID:Australia/Sydney
TZURL:http://tzurl.org/zoneinfo-outlook/Australia/Sydney
X-LIC-LOCATION:Australia/Sydney
BEGIN:STANDARD
TZOFFSETFROM:+1100
TZOFFSETTO:+1000
TZNAME:AEST
DTSTART:19700405T030000
RRULE:FREQ=YEARLY;BYMONTH=4;BYDAY=1SU
END:STANDARD
BEGIN:DAYLIGHT
TZOFFSETFROM:+1000
TZOFFSETTO:+1100
TZNAME:AEDT
DTSTART:19701004T020000
RRULE:FREQ=YEARLY;BYMONTH=10;BYDAY=1SU
END:DAYLIGHT
END:VTIMEZONE
CALSCALE:GREGORIAN
X-WR-TIMEZONE:Australia/Sydney
BEGIN:VEVENT
DTSTART;TZID=Australia/Sydney:20140728T090000
DTEND;TZID=Australia/Sydney:20140728T150000
DTSTAMP:20140728T090000Z
UID:d6a7d5c4-edb1-41c8-a85b-769f4ea90a35
LOCATION:
SUMMARY;LANGUAGE=en-us:NRL Coaching
SEQUENCE:0
DESCRIPTION:We are lucky enough to have Casey visiting us once again to develop gross motor skills though the NRL Coaching program over a three week period.
END:VEVENT
TRANSP:TRANSPARENT
END:VCALENDAR
