BEGIN:VCALENDAR
VERSION:2.0
PRODID:-//Department Of Education//b4ba2d21-0723-4356-8e20-35c8746a07c2
BEGIN:VTIMEZONE
TZID:Australia/Sydney
TZURL:http://tzurl.org/zoneinfo-outlook/Australia/Sydney
X-LIC-LOCATION:Australia/Sydney
BEGIN:STANDARD
TZOFFSETFROM:+1100
TZOFFSETTO:+1000
TZNAME:AEST
DTSTART:19700405T030000
RRULE:FREQ=YEARLY;BYMONTH=4;BYDAY=1SU
END:STANDARD
BEGIN:DAYLIGHT
TZOFFSETFROM:+1000
TZOFFSETTO:+1100
TZNAME:AEDT
DTSTART:19701004T020000
RRULE:FREQ=YEARLY;BYMONTH=10;BYDAY=1SU
END:DAYLIGHT
END:VTIMEZONE
CALSCALE:GREGORIAN
X-WR-TIMEZONE:Australia/Sydney
BEGIN:VEVENT
DTSTART;TZID=Australia/Sydney:20140714T090000
DTEND;TZID=Australia/Sydney:20140714T150000
DTSTAMP:20140714T090000Z
UID:3131f395-ef25-46ef-b213-c6c67ebf9177
LOCATION:
SUMMARY;LANGUAGE=en-us:Staff Professional Development 
SEQUENCE:0
DESCRIPTION:Staff return today to engage in Professional Learning before the term begins.
END:VEVENT
TRANSP:TRANSPARENT
END:VCALENDAR
