BEGIN:VCALENDAR
VERSION:2.0
PRODID:-//Department Of Education//ff5e59ba-b496-49f6-a269-0c490156ee4d
BEGIN:VTIMEZONE
TZID:Australia/Sydney
TZURL:http://tzurl.org/zoneinfo-outlook/Australia/Sydney
X-LIC-LOCATION:Australia/Sydney
BEGIN:STANDARD
TZOFFSETFROM:+1100
TZOFFSETTO:+1000
TZNAME:AEST
DTSTART:19700405T030000
RRULE:FREQ=YEARLY;BYMONTH=4;BYDAY=1SU
END:STANDARD
BEGIN:DAYLIGHT
TZOFFSETFROM:+1000
TZOFFSETTO:+1100
TZNAME:AEDT
DTSTART:19701004T020000
RRULE:FREQ=YEARLY;BYMONTH=10;BYDAY=1SU
END:DAYLIGHT
END:VTIMEZONE
CALSCALE:GREGORIAN
X-WR-TIMEZONE:Australia/Sydney
BEGIN:VEVENT
DTSTART;VALUE=DATE:20140722
DTEND;VALUE=DATE:20140723
DTSTAMP:20140722T000000Z
UID:335224e8-3350-449a-b6e0-e5009ffea6ba
LOCATION:
SUMMARY;LANGUAGE=en-us:Water Safety Talk
SEQUENCE:0
DESCRIPTION:Students from K-6 will participate in water safety talks to prepare them for Summer activities.
END:VEVENT
TRANSP:TRANSPARENT
END:VCALENDAR
