BEGIN:VCALENDAR
VERSION:2.0
PRODID:-//Department Of Education//f3083ea2-08ba-4fa0-b12a-252c3cbad03f
BEGIN:VTIMEZONE
TZID:Australia/Sydney
TZURL:http://tzurl.org/zoneinfo-outlook/Australia/Sydney
X-LIC-LOCATION:Australia/Sydney
BEGIN:STANDARD
TZOFFSETFROM:+1100
TZOFFSETTO:+1000
TZNAME:AEST
DTSTART:19700405T030000
RRULE:FREQ=YEARLY;BYMONTH=4;BYDAY=1SU
END:STANDARD
BEGIN:DAYLIGHT
TZOFFSETFROM:+1000
TZOFFSETTO:+1100
TZNAME:AEDT
DTSTART:19701004T020000
RRULE:FREQ=YEARLY;BYMONTH=10;BYDAY=1SU
END:DAYLIGHT
END:VTIMEZONE
CALSCALE:GREGORIAN
X-WR-TIMEZONE:Australia/Sydney
BEGIN:VEVENT
DTSTART;TZID=Australia/Sydney:20140819T090000
DTEND;TZID=Australia/Sydney:20140819T111500
DTSTAMP:20140819T090000Z
UID:5b40b594-c838-42e7-965d-62132d9b86e0
LOCATION:
SUMMARY;LANGUAGE=en-us:Got It
SEQUENCE:0
DESCRIPTION:Every Tuesday during Term 3 for selected parents and students.
END:VEVENT
TRANSP:TRANSPARENT
END:VCALENDAR
