BEGIN:VCALENDAR
VERSION:2.0
PRODID:-//Department Of Education//6abff15e-236a-4571-a9e7-87ee7b676588
BEGIN:VTIMEZONE
TZID:Australia/Sydney
TZURL:http://tzurl.org/zoneinfo-outlook/Australia/Sydney
X-LIC-LOCATION:Australia/Sydney
BEGIN:STANDARD
TZOFFSETFROM:+1100
TZOFFSETTO:+1000
TZNAME:AEST
DTSTART:19700405T030000
RRULE:FREQ=YEARLY;BYMONTH=4;BYDAY=1SU
END:STANDARD
BEGIN:DAYLIGHT
TZOFFSETFROM:+1000
TZOFFSETTO:+1100
TZNAME:AEDT
DTSTART:19701004T020000
RRULE:FREQ=YEARLY;BYMONTH=10;BYDAY=1SU
END:DAYLIGHT
END:VTIMEZONE
CALSCALE:GREGORIAN
X-WR-TIMEZONE:Australia/Sydney
BEGIN:VEVENT
DTSTART;VALUE=DATE:20140801
DTEND;VALUE=DATE:20140802
DTSTAMP:20140801T000000Z
UID:00a65230-3bb8-409d-bdb1-f6b065894b87
LOCATION:
SUMMARY;LANGUAGE=en-us:Hot Dog Day
SEQUENCE:0
DESCRIPTION:As our canteen operators will be at the Zone Athletics Carnival, the only lunch option at our school canteen for Friday, August 1 will be a hot dog. Hot dogs need to be pre-ordered and paid for by Thursday, July 31st. Recess can be ordered as normal.
END:VEVENT
TRANSP:TRANSPARENT
END:VCALENDAR
