BEGIN:VCALENDAR
VERSION:2.0
PRODID:-//Department Of Education//1ffea06a-b169-4875-9e6b-58fcdb125e48
BEGIN:VTIMEZONE
TZID:Australia/Sydney
TZURL:http://tzurl.org/zoneinfo-outlook/Australia/Sydney
X-LIC-LOCATION:Australia/Sydney
BEGIN:STANDARD
TZOFFSETFROM:+1100
TZOFFSETTO:+1000
TZNAME:AEST
DTSTART:19700405T030000
RRULE:FREQ=YEARLY;BYMONTH=4;BYDAY=1SU
END:STANDARD
BEGIN:DAYLIGHT
TZOFFSETFROM:+1000
TZOFFSETTO:+1100
TZNAME:AEDT
DTSTART:19701004T020000
RRULE:FREQ=YEARLY;BYMONTH=10;BYDAY=1SU
END:DAYLIGHT
END:VTIMEZONE
CALSCALE:GREGORIAN
X-WR-TIMEZONE:Australia/Sydney
BEGIN:VEVENT
DTSTART;VALUE=DATE:20140829
DTEND;VALUE=DATE:20140830
DTSTAMP:20140829T000000Z
UID:26d87879-3936-4b5d-bba4-a10278f78812
LOCATION:
SUMMARY;LANGUAGE=en-us:Wakakirri
SEQUENCE:0
DESCRIPTION:Travelling to Sydney to perform in the Wakakirri Primary School Story Dance Challenge!
END:VEVENT
TRANSP:TRANSPARENT
END:VCALENDAR
