BEGIN:VCALENDAR
VERSION:2.0
PRODID:-//Department Of Education//d76c3fdf-ba2c-41d9-909e-7678a557b75c
BEGIN:VTIMEZONE
TZID:Australia/Sydney
TZURL:http://tzurl.org/zoneinfo-outlook/Australia/Sydney
X-LIC-LOCATION:Australia/Sydney
BEGIN:STANDARD
TZOFFSETFROM:+1100
TZOFFSETTO:+1000
TZNAME:AEST
DTSTART:19700405T030000
RRULE:FREQ=YEARLY;BYMONTH=4;BYDAY=1SU
END:STANDARD
BEGIN:DAYLIGHT
TZOFFSETFROM:+1000
TZOFFSETTO:+1100
TZNAME:AEDT
DTSTART:19701004T020000
RRULE:FREQ=YEARLY;BYMONTH=10;BYDAY=1SU
END:DAYLIGHT
END:VTIMEZONE
CALSCALE:GREGORIAN
X-WR-TIMEZONE:Australia/Sydney
BEGIN:VEVENT
DTSTART;VALUE=DATE:20140813
DTEND;VALUE=DATE:20140814
DTSTAMP:20140813T000000Z
UID:f195de2b-94fd-4979-9a07-0c1d305efdeb
LOCATION:
SUMMARY;LANGUAGE=en-us:Yr 6 Highschool Visit
SEQUENCE:0
DESCRIPTION:Our Year 6 students will attend Francis Greenway High School for the day. They will participate in Creative and Performing Arts mini-lessons to get a taste of what's to come.
END:VEVENT
TRANSP:TRANSPARENT
END:VCALENDAR
