BEGIN:VCALENDAR
VERSION:2.0
PRODID:-//Department Of Education//85b36f7b-0793-472a-a052-1132da0f8c42
BEGIN:VTIMEZONE
TZID:Australia/Sydney
TZURL:http://tzurl.org/zoneinfo-outlook/Australia/Sydney
X-LIC-LOCATION:Australia/Sydney
BEGIN:STANDARD
TZOFFSETFROM:+1100
TZOFFSETTO:+1000
TZNAME:AEST
DTSTART:19700405T030000
RRULE:FREQ=YEARLY;BYMONTH=4;BYDAY=1SU
END:STANDARD
BEGIN:DAYLIGHT
TZOFFSETFROM:+1000
TZOFFSETTO:+1100
TZNAME:AEDT
DTSTART:19701004T020000
RRULE:FREQ=YEARLY;BYMONTH=10;BYDAY=1SU
END:DAYLIGHT
END:VTIMEZONE
CALSCALE:GREGORIAN
X-WR-TIMEZONE:Australia/Sydney
BEGIN:VEVENT
DTSTART;TZID=Australia/Sydney:20140902T090000
DTEND;TZID=Australia/Sydney:20140902T111500
DTSTAMP:20140902T090000Z
UID:3cab7158-d949-4d7f-8017-b954f1b63b41
LOCATION:
SUMMARY;LANGUAGE=en-us:Got It
SEQUENCE:0
DESCRIPTION:Every Tuesday during Term 3 for selected parents and students.
END:VEVENT
TRANSP:TRANSPARENT
END:VCALENDAR
