BEGIN:VCALENDAR
VERSION:2.0
PRODID:-//Department Of Education//81288a0b-7690-49d1-b542-f4efb08db1bb
BEGIN:VTIMEZONE
TZID:Australia/Sydney
TZURL:http://tzurl.org/zoneinfo-outlook/Australia/Sydney
X-LIC-LOCATION:Australia/Sydney
BEGIN:STANDARD
TZOFFSETFROM:+1100
TZOFFSETTO:+1000
TZNAME:AEST
DTSTART:19700405T030000
RRULE:FREQ=YEARLY;BYMONTH=4;BYDAY=1SU
END:STANDARD
BEGIN:DAYLIGHT
TZOFFSETFROM:+1000
TZOFFSETTO:+1100
TZNAME:AEDT
DTSTART:19701004T020000
RRULE:FREQ=YEARLY;BYMONTH=10;BYDAY=1SU
END:DAYLIGHT
END:VTIMEZONE
CALSCALE:GREGORIAN
X-WR-TIMEZONE:Australia/Sydney
BEGIN:VEVENT
DTSTART;TZID=Australia/Sydney:20140909T090000
DTEND;TZID=Australia/Sydney:20140909T111500
DTSTAMP:20140909T090000Z
UID:31e5cec3-a63a-45d6-a0e1-8026638dc362
LOCATION:
SUMMARY;LANGUAGE=en-us:Got It
SEQUENCE:0
DESCRIPTION:Every Tuesday during Term 3 for selected parents and students.
END:VEVENT
TRANSP:TRANSPARENT
END:VCALENDAR
