BEGIN:VCALENDAR
VERSION:2.0
PRODID:-//Department Of Education//b830a106-2054-43b4-9e40-481b37659b44
BEGIN:VTIMEZONE
TZID:Australia/Sydney
TZURL:http://tzurl.org/zoneinfo-outlook/Australia/Sydney
X-LIC-LOCATION:Australia/Sydney
BEGIN:STANDARD
TZOFFSETFROM:+1100
TZOFFSETTO:+1000
TZNAME:AEST
DTSTART:19700405T030000
RRULE:FREQ=YEARLY;BYMONTH=4;BYDAY=1SU
END:STANDARD
BEGIN:DAYLIGHT
TZOFFSETFROM:+1000
TZOFFSETTO:+1100
TZNAME:AEDT
DTSTART:19701004T020000
RRULE:FREQ=YEARLY;BYMONTH=10;BYDAY=1SU
END:DAYLIGHT
END:VTIMEZONE
CALSCALE:GREGORIAN
X-WR-TIMEZONE:Australia/Sydney
BEGIN:VEVENT
DTSTART;VALUE=DATE:20160513
DTEND;VALUE=DATE:20160514
DTSTAMP:20160513T000000Z
UID:d7c7f208-620d-4002-8e93-cd41ac71d2f3
LOCATION:
SUMMARY;LANGUAGE=en-us:Book Club Due
SEQUENCE:0
DESCRIPTION:
END:VEVENT
TRANSP:TRANSPARENT
END:VCALENDAR
